BEGIN:VCALENDAR
PRODID:-//SINGPromos.com//NONSGML v1.0//EN
VERSION:2.0
CALSCALE:GREGORIAN
METHOD:PUBLISH
X-WR-CALNAME:SINGPromos.com
X-ORIGINAL-URL:https://singpromos.com
X-WR-CALDESC:Events for SINGPromos.com
BEGIN:VEVENT
DTSTART:20140104T000000
DTEND:20140105T235900
DTSTAMP:20260422T062833
CREATED:20131231T153525
LAST-MODIFIED:20131231T154733
UID:84689@https://singpromos.com
SUMMARY:Cornell Up To 90% OFF Warehouse SALE @ Thye Hong Centre 4 - 5 Jan 2014
DESCRIPTION:Cornell will be having a Chinese New Year Warehouse Sale from 4 January to 5 January 2014, 11am - 6pm. For more information, visit [ https://singpromos.com/warehouse-sales/cornell-up-to-90-off-warehouse-sale-thye-hong-centre-4-5-jan-2014-84689/ ]. 
LOCATION:2 Leng Kee Road, Level 6, 159086
URL:https://singpromos.com/warehouse-sales/cornell-up-to-90-off-warehouse-sale-thye-hong-centre-4-5-jan-2014-84689/
END:VEVENT
END:VCALENDAR