BEGIN:VCALENDAR
PRODID:-//SINGPromos.com//NONSGML v1.0//EN
VERSION:2.0
CALSCALE:GREGORIAN
METHOD:PUBLISH
X-WR-CALNAME:SINGPromos.com
X-ORIGINAL-URL:https://singpromos.com
X-WR-CALDESC:Events for SINGPromos.com
BEGIN:VEVENT
DTSTART:20131230T000000
DTEND:20140105T235900
DTSTAMP:20260420T061841
CREATED:20131231T173452
LAST-MODIFIED:20131231T173517
UID:84695@https://singpromos.com
SUMMARY:MPH Bookstores Up To 25% OFF Back To School SALE 30 Dec 2013 - 5 Jan 2014
DESCRIPTION:MPH Bookstores is having a Back-To-School SALE from 30 December to 5 January 2014. For more information, visit [ https://singpromos.com/books/mph-bookstores-up-to-25-off-back-to-school-sale-30-dec-2013-5-jan-2014-84695/ ]. 
LOCATION:
URL:https://singpromos.com/books/mph-bookstores-up-to-25-off-back-to-school-sale-30-dec-2013-5-jan-2014-84695/
END:VEVENT
END:VCALENDAR