BEGIN:VCALENDAR
PRODID:-//SINGPromos.com//NONSGML v1.0//EN
VERSION:2.0
CALSCALE:GREGORIAN
METHOD:PUBLISH
X-WR-CALNAME:SINGPromos.com
X-ORIGINAL-URL:https://singpromos.com
X-WR-CALDESC:Events for SINGPromos.com
BEGIN:VEVENT
DTSTART:20131231T000000
DTEND:20140101T235900
DTSTAMP:20260422T063024
CREATED:20131231T173700
LAST-MODIFIED:20131231T173852
UID:84699@https://singpromos.com
SUMMARY:FoodPanda 10% OFF Coupon Code Promotion 31 Dec 2013 - 1 Jan 2014
DESCRIPTION:Enjoy 10% off when you input the coupon code below on your order. Valid only with Paypal payments.. For more information, visit [ https://singpromos.com/dining-restaurants-food/foodpanda-10-off-coupon-code-promotion-31-dec-2013-1-jan-2014-84699/ ]. 
LOCATION:
URL:https://singpromos.com/dining-restaurants-food/foodpanda-10-off-coupon-code-promotion-31-dec-2013-1-jan-2014-84699/
END:VEVENT
END:VCALENDAR