BEGIN:VCALENDAR
PRODID:-//SINGPromos.com//NONSGML v1.0//EN
VERSION:2.0
CALSCALE:GREGORIAN
METHOD:PUBLISH
X-WR-CALNAME:SINGPromos.com
X-ORIGINAL-URL:https://singpromos.com
X-WR-CALDESC:Events for SINGPromos.com
BEGIN:VEVENT
DTSTART:20140102T000000
DTEND:20140108T235900
DTSTAMP:20260422T082107
CREATED:20140102T120709
LAST-MODIFIED:20140102T120709
UID:84756@https://singpromos.com
SUMMARY:NTUC Fairprice Abalones & Other CNY Offers 2 - 8 Jan 2014
DESCRIPTION:Celebration of Abundunce! Check out some prosperous starters for the new year at your nearest NTUC Fairprice outlet, valid till 8 January 2014. For more information, visit [ https://singpromos.com/dining-restaurants-food/ntuc-fairprice-abalones-other-cny-offers-2-8-jan-2014-84756/ ]. 
LOCATION:
URL:https://singpromos.com/dining-restaurants-food/ntuc-fairprice-abalones-other-cny-offers-2-8-jan-2014-84756/
END:VEVENT
END:VCALENDAR