BEGIN:VCALENDAR
PRODID:-//SINGPromos.com//NONSGML v1.0//EN
VERSION:2.0
CALSCALE:GREGORIAN
METHOD:PUBLISH
X-WR-CALNAME:SINGPromos.com
X-ORIGINAL-URL:https://singpromos.com
X-WR-CALDESC:Events for SINGPromos.com
BEGIN:VEVENT
DTSTART:20140103T000000
DTEND:20140105T235900
DTSTAMP:20260420T232525
CREATED:20140103T115617
LAST-MODIFIED:20140103T120548
UID:84878@https://singpromos.com
SUMMARY:Cold Storage Abalone Gift Sets Promo Offers 3 - 5 Jan 2014
DESCRIPTION:Check out these Abundant Prosperity abalone gift set deals valid for 3 days only till 5 January 2014 at your nearest Cold Storage outlet. For more information, visit [ https://singpromos.com/dining-restaurants-food/cold-storage-abalone-gift-sets-promo-offers-3-5-jan-2014-84878/ ]. 
LOCATION:
URL:https://singpromos.com/dining-restaurants-food/cold-storage-abalone-gift-sets-promo-offers-3-5-jan-2014-84878/
END:VEVENT
END:VCALENDAR