BEGIN:VCALENDAR
PRODID:-//SINGPromos.com//NONSGML v1.0//EN
VERSION:2.0
CALSCALE:GREGORIAN
METHOD:PUBLISH
X-WR-CALNAME:SINGPromos.com
X-ORIGINAL-URL:https://singpromos.com
X-WR-CALDESC:Events for SINGPromos.com
BEGIN:VEVENT
DTSTART:20140104T000000
DTEND:20140105T235900
DTSTAMP:20260422T075640
CREATED:20140104T200510
LAST-MODIFIED:20140104T200713
UID:85046@https://singpromos.com
SUMMARY:Courts 2014 New Year SALE Offers 4 - 5 Jan 2014
DESCRIPTION:Courts is now having their 2014 New Year SALE. Check out some of the offers and promotions below valid till 5 January 2014. For more information, visit [ https://singpromos.com/department-stores/courts-2014-new-year-sale-offers-4-5-jan-2014-85046/ ]. 
LOCATION:
URL:https://singpromos.com/department-stores/courts-2014-new-year-sale-offers-4-5-jan-2014-85046/
END:VEVENT
END:VCALENDAR