BEGIN:VCALENDAR
PRODID:-//SINGPromos.com//NONSGML v1.0//EN
VERSION:2.0
CALSCALE:GREGORIAN
METHOD:PUBLISH
X-WR-CALNAME:SINGPromos.com
X-ORIGINAL-URL:https://singpromos.com
X-WR-CALDESC:Events for SINGPromos.com
BEGIN:VEVENT
DTSTART:20140108T000000
DTEND:20140213T235900
DTSTAMP:20260420T191244
CREATED:20140108T142700
LAST-MODIFIED:20140214T103824
UID:85286@https://singpromos.com
SUMMARY:Dunkin' Donuts 49% OFF Box of 6 Donuts @ 11 Locations 8 Jan 2014
DESCRIPTION:Grab a mouthful of sugary treats at almost half price off with this deal: $7 for Box of 6 Donuts at Dunkin' Donuts in 11 Locations (Worth $13.80) - that's 49% OFF the usual price! Learn how to get this deal before it ends soon. For more information, visit [ https://singpromos.com/dining-restaurants-food/dunkin-donuts-49-off-box-of-6-donuts-11-locations-8-jan-2014-85286/ ]. 
LOCATION:
URL:https://singpromos.com/dining-restaurants-food/dunkin-donuts-49-off-box-of-6-donuts-11-locations-8-jan-2014-85286/
END:VEVENT
END:VCALENDAR