BEGIN:VCALENDAR
PRODID:-//SINGPromos.com//NONSGML v1.0//EN
VERSION:2.0
CALSCALE:GREGORIAN
METHOD:PUBLISH
X-WR-CALNAME:SINGPromos.com
X-ORIGINAL-URL:https://singpromos.com
X-WR-CALDESC:Events for SINGPromos.com
BEGIN:VEVENT
DTSTART:20140116T000000
DTEND:20140122T235900
DTSTAMP:20260420T232526
CREATED:20140116T121533
LAST-MODIFIED:20140116T121631
UID:86040@https://singpromos.com
SUMMARY:NTUC Fairprice Abalones (New Moon, Skylight, etc) & Grocery Offers 16 - 22 Jan 2014
DESCRIPTION:Feast your way to prosperity. Offers valid from 16 January to 22 January 2014. For more information, visit [ https://singpromos.com/dining-restaurants-food/ntuc-fairprice-abalones-new-moon-skylight-etc-grocery-offers-16-22-jan-2014-86040/ ]. 
LOCATION:
URL:https://singpromos.com/dining-restaurants-food/ntuc-fairprice-abalones-new-moon-skylight-etc-grocery-offers-16-22-jan-2014-86040/
END:VEVENT
END:VCALENDAR