BEGIN:VCALENDAR
PRODID:-//SINGPromos.com//NONSGML v1.0//EN
VERSION:2.0
CALSCALE:GREGORIAN
METHOD:PUBLISH
X-WR-CALNAME:SINGPromos.com
X-ORIGINAL-URL:https://singpromos.com
X-WR-CALDESC:Events for SINGPromos.com
BEGIN:VEVENT
DTSTART:20140116T000000
DTEND:20140126T235900
DTSTAMP:20260420T044223
CREATED:20140121T174719
LAST-MODIFIED:20140121T174719
UID:86473@https://singpromos.com
SUMMARY:Lapalette End of Season SALE 16 Jan 2014
DESCRIPTION:Lapalette is now having their end of season sale for a limited time. For more information, visit [ https://singpromos.com/fashion-accessories/lapalette-end-of-season-sale-16-jan-2014-86473/ ]. 
LOCATION:
URL:https://singpromos.com/fashion-accessories/lapalette-end-of-season-sale-16-jan-2014-86473/
END:VEVENT
END:VCALENDAR