BEGIN:VCALENDAR
PRODID:-//SINGPromos.com//NONSGML v1.0//EN
VERSION:2.0
CALSCALE:GREGORIAN
METHOD:PUBLISH
X-WR-CALNAME:SINGPromos.com
X-ORIGINAL-URL:https://singpromos.com
X-WR-CALDESC:Events for SINGPromos.com
BEGIN:VEVENT
DTSTART:20140124T000000
DTEND:20140126T235900
DTSTAMP:20260420T232508
CREATED:20140124T110333
LAST-MODIFIED:20140124T205442
UID:86667@https://singpromos.com
SUMMARY:Cold Storage Abalones, Gift Sets, Ferrero Rocher & Other CNY Grocery Offers 24 - 26 Jan 2014
DESCRIPTION:Check out Cold Storage's latest promotion offers on selected New Moon and Yu Pin King branded abalones and gift sets, Ferrero Rocher and many more offers valid till 26 January 2014. For more information, visit [ https://singpromos.com/dining-restaurants-food/cold-storage-abalones-gift-sets-ferrero-rocher-other-cny-grocery-offers-24-26-jan-2014-86667/ ]. 
LOCATION:
URL:https://singpromos.com/dining-restaurants-food/cold-storage-abalones-gift-sets-ferrero-rocher-other-cny-grocery-offers-24-26-jan-2014-86667/
END:VEVENT
END:VCALENDAR