BEGIN:VCALENDAR
PRODID:-//SINGPromos.com//NONSGML v1.0//EN
VERSION:2.0
CALSCALE:GREGORIAN
METHOD:PUBLISH
X-WR-CALNAME:SINGPromos.com
X-ORIGINAL-URL:https://singpromos.com
X-WR-CALDESC:Events for SINGPromos.com
BEGIN:VEVENT
DTSTART:20140125T000000
DTEND:20140127T235900
DTSTAMP:20260424T023529
CREATED:20140125T180623
LAST-MODIFIED:20140127T125503
UID:86824@https://singpromos.com
SUMMARY:Courts 3 Days Festive Clearout Offers 25 - 27 Jan 2014
DESCRIPTION:Courts is having a 3 Days Festive Clearout at all stores. Promotion available at all stores from 25 January to 27 January 2014.. For more information, visit [ https://singpromos.com/department-stores/courts-3-days-festive-clearout-offers-25-27-jan-2014-86824/ ]. 
LOCATION:
URL:https://singpromos.com/department-stores/courts-3-days-festive-clearout-offers-25-27-jan-2014-86824/
END:VEVENT
END:VCALENDAR