BEGIN:VCALENDAR
PRODID:-//SINGPromos.com//NONSGML v1.0//EN
VERSION:2.0
CALSCALE:GREGORIAN
METHOD:PUBLISH
X-WR-CALNAME:SINGPromos.com
X-ORIGINAL-URL:https://singpromos.com
X-WR-CALDESC:Events for SINGPromos.com
BEGIN:VEVENT
DTSTART:20140127T000000
DTEND:20140130T235900
DTSTAMP:20260420T200230
CREATED:20140127T105243
LAST-MODIFIED:20140127T105243
UID:86909@https://singpromos.com
SUMMARY:NTUC Fairprice Abalones & Other CNY 3 Day Offers 27 - 30 Jan 2014
DESCRIPTION:More offers including New Moon abalone gift set, Fortune abalone, Golden Chef baby abalone and more. Valid from 27 January to 30 January 2014. For more information, visit [ https://singpromos.com/dining-restaurants-food/ntuc-fairprice-abalones-other-cny-3-day-offers-27-30-jan-2014-86909/ ]. 
LOCATION:
URL:https://singpromos.com/dining-restaurants-food/ntuc-fairprice-abalones-other-cny-3-day-offers-27-30-jan-2014-86909/
END:VEVENT
END:VCALENDAR