BEGIN:VCALENDAR
PRODID:-//SINGPromos.com//NONSGML v1.0//EN
VERSION:2.0
CALSCALE:GREGORIAN
METHOD:PUBLISH
X-WR-CALNAME:SINGPromos.com
X-ORIGINAL-URL:https://singpromos.com
X-WR-CALDESC:Events for SINGPromos.com
BEGIN:VEVENT
DTSTART:20140129T000000
DTEND:20140201T235900
DTSTAMP:20260424T020742
CREATED:20140128T160425
LAST-MODIFIED:20140129T192936
UID:86960@https://singpromos.com
SUMMARY:Giant Chinese New Year 2014 Opening Hours 29 Jan - 1 Feb 2014
DESCRIPTION:Here are the opening hours for Giant Hypermarket stores islandwide for the Chinese New Year period from 29 January to 1 February 2014.. For more information, visit [ https://singpromos.com/department-stores/giant-chinese-new-year-2014-opening-hours-29-jan-1-feb-2014-86960/ ]. 
LOCATION:
URL:https://singpromos.com/department-stores/giant-chinese-new-year-2014-opening-hours-29-jan-1-feb-2014-86960/
END:VEVENT
END:VCALENDAR