BEGIN:VCALENDAR
PRODID:-//SINGPromos.com//NONSGML v1.0//EN
VERSION:2.0
CALSCALE:GREGORIAN
METHOD:PUBLISH
X-WR-CALNAME:SINGPromos.com
X-ORIGINAL-URL:https://singpromos.com
X-WR-CALDESC:Events for SINGPromos.com
BEGIN:VEVENT
DTSTART:20140129T000000
DTEND:20140129T235900
DTSTAMP:20260424T023442
CREATED:20140129T002523
LAST-MODIFIED:20140129T002523
UID:87013@https://singpromos.com
SUMMARY:NTUC Fairprice Razor Clams & Other CNY One Day Offers 29 Jan 2014
DESCRIPTION:NTUC Fairprice is having one day special offers on selected Chinese New Year products including New Moon Razor Clams, Ferrero Rocher and more till 29 January 2014. For more information, visit [ https://singpromos.com/dining-restaurants-food/ntuc-fairprice-razor-clams-other-cny-one-day-offers-29-jan-2014-87013/ ]. 
LOCATION:
URL:https://singpromos.com/dining-restaurants-food/ntuc-fairprice-razor-clams-other-cny-one-day-offers-29-jan-2014-87013/
END:VEVENT
END:VCALENDAR