BEGIN:VCALENDAR
PRODID:-//SINGPromos.com//NONSGML v1.0//EN
VERSION:2.0
CALSCALE:GREGORIAN
METHOD:PUBLISH
X-WR-CALNAME:SINGPromos.com
X-ORIGINAL-URL:https://singpromos.com
X-WR-CALDESC:Events for SINGPromos.com
BEGIN:VEVENT
DTSTART:20140202T000000
DTEND:20140216T235900
DTSTAMP:20260422T080409
CREATED:20140202T204700
LAST-MODIFIED:20140202T205713
UID:87226@https://singpromos.com
SUMMARY:Triumph Up To 70% OFF Post CNY Promo 2 - 16 Feb 2014
DESCRIPTION:Triumph is having a post Chinese New Year Special - enjoy up to 70% OFF. For more information, visit [ https://singpromos.com/fashion-accessories/triumph-up-to-70-off-post-cny-promo-2-16-feb-2014-87226/ ]. 
LOCATION:
URL:https://singpromos.com/fashion-accessories/triumph-up-to-70-off-post-cny-promo-2-16-feb-2014-87226/
END:VEVENT
END:VCALENDAR