BEGIN:VCALENDAR
PRODID:-//SINGPromos.com//NONSGML v1.0//EN
VERSION:2.0
CALSCALE:GREGORIAN
METHOD:PUBLISH
X-WR-CALNAME:SINGPromos.com
X-ORIGINAL-URL:https://singpromos.com
X-WR-CALDESC:Events for SINGPromos.com
BEGIN:VEVENT
DTSTART:20140208T000000
DTEND:20140209T235900
DTSTAMP:20260422T082128
CREATED:20140205T103341
LAST-MODIFIED:20140204T184606
UID:87379@https://singpromos.com
SUMMARY:Dynasty Travel Premiere Fair Offers @ Suntec 8 - 9 Feb 2014
DESCRIPTION:Dynasty Travel will be having a Premiere Fair this weekend 8 February to 9 February 2014 at Suntec West Atrium. For more information, visit [ https://singpromos.com/vacations/dynasty-travel-premiere-fair-offers-suntec-8-9-feb-2014-87379/ ]. 
LOCATION:
URL:https://singpromos.com/vacations/dynasty-travel-premiere-fair-offers-suntec-8-9-feb-2014-87379/
END:VEVENT
END:VCALENDAR