BEGIN:VCALENDAR
PRODID:-//SINGPromos.com//NONSGML v1.0//EN
VERSION:2.0
CALSCALE:GREGORIAN
METHOD:PUBLISH
X-WR-CALNAME:SINGPromos.com
X-ORIGINAL-URL:https://singpromos.com
X-WR-CALDESC:Events for SINGPromos.com
BEGIN:VEVENT
DTSTART:20140206T000000
DTEND:20140219T235900
DTSTAMP:20260420T061841
CREATED:20140206T115125
LAST-MODIFIED:20140206T115125
UID:87486@https://singpromos.com
SUMMARY:NTUC FairPrice Abalones, Valentine's Day, Wines & More Offers 6 - 19 Feb 2014
DESCRIPTION:Check out NTUC Fairprice's latest offers on selected abalones, Walls / Soyato ice creams, Valentine's Day chocolates / gifts and many more valid up to 19 Feb 2014. For more information, visit [ https://singpromos.com/department-stores/ntuc-fairprice-abalones-valentines-day-wines-more-offers-6-19-feb-2014-87486/ ]. 
LOCATION:
URL:https://singpromos.com/department-stores/ntuc-fairprice-abalones-valentines-day-wines-more-offers-6-19-feb-2014-87486/
END:VEVENT
END:VCALENDAR