BEGIN:VCALENDAR
PRODID:-//SINGPromos.com//NONSGML v1.0//EN
VERSION:2.0
CALSCALE:GREGORIAN
METHOD:PUBLISH
X-WR-CALNAME:SINGPromos.com
X-ORIGINAL-URL:https://singpromos.com
X-WR-CALDESC:Events for SINGPromos.com
BEGIN:VEVENT
DTSTART:20140206T000000
DTEND:20140214T235900
DTSTAMP:20260420T061806
CREATED:20140206T154948
LAST-MODIFIED:20140206T154948
UID:87525@https://singpromos.com
SUMMARY:Harvey Norman Philips Electronics & Apple MacBook Offers 6 - 14 Feb 2014
DESCRIPTION:Here's Harvey Norman's latest offers on some Philips electronics and Apple MacBook notebooks valid till up to 14 February 2014. For more information, visit [ https://singpromos.com/department-stores/harvey-norman-philips-electronics-apple-macbook-offers-6-14-feb-2014-87525/ ]. 
LOCATION:
URL:https://singpromos.com/department-stores/harvey-norman-philips-electronics-apple-macbook-offers-6-14-feb-2014-87525/
END:VEVENT
END:VCALENDAR