BEGIN:VCALENDAR
PRODID:-//SINGPromos.com//NONSGML v1.0//EN
VERSION:2.0
CALSCALE:GREGORIAN
METHOD:PUBLISH
X-WR-CALNAME:SINGPromos.com
X-ORIGINAL-URL:https://singpromos.com
X-WR-CALDESC:Events for SINGPromos.com
BEGIN:VEVENT
DTSTART:20140208T000000
DTEND:20140209T235900
DTSTAMP:20260422T075640
CREATED:20140208T214536
LAST-MODIFIED:20140208T214536
UID:87738@https://singpromos.com
SUMMARY:Courts Price Breakthrough Offers 8 - 9 Feb 2014
DESCRIPTION:Courts is having a Price Breakthrough promotion. They have checked their prices to ensure that they are the lowest.. For more information, visit [ https://singpromos.com/department-stores/courts-price-breakthrough-offers-8-9-feb-2014-87738/ ]. 
LOCATION:
URL:https://singpromos.com/department-stores/courts-price-breakthrough-offers-8-9-feb-2014-87738/
END:VEVENT
END:VCALENDAR