BEGIN:VCALENDAR
PRODID:-//SINGPromos.com//NONSGML v1.0//EN
VERSION:2.0
CALSCALE:GREGORIAN
METHOD:PUBLISH
X-WR-CALNAME:SINGPromos.com
X-ORIGINAL-URL:https://singpromos.com
X-WR-CALDESC:Events for SINGPromos.com
BEGIN:VEVENT
DTSTART:20140210T000000
DTEND:20140221T235900
DTSTAMP:20260422T082149
CREATED:20140213T113959
LAST-MODIFIED:20140213T144136
UID:88028@https://singpromos.com
SUMMARY:Lucky Sole Up To 70% OFF Shoes SALE @ Keypoint 10 - 21 Feb 2014
DESCRIPTION:Lucky Sole is having a Shoes SALE at Keyoint with discounts of up to 70% OFF on adidas, Reebok and 361° shoes.. For more information, visit [ https://singpromos.com/footwear/lucky-sole-up-to-70-off-shoes-sale-keypoint-10-21-feb-2014-88028/ ]. 
LOCATION:371 Beach Road, #01-23, 199597
URL:https://singpromos.com/footwear/lucky-sole-up-to-70-off-shoes-sale-keypoint-10-21-feb-2014-88028/
END:VEVENT
END:VCALENDAR