BEGIN:VCALENDAR
PRODID:-//SINGPromos.com//NONSGML v1.0//EN
VERSION:2.0
CALSCALE:GREGORIAN
METHOD:PUBLISH
X-WR-CALNAME:SINGPromos.com
X-ORIGINAL-URL:https://singpromos.com
X-WR-CALDESC:Events for SINGPromos.com
BEGIN:VEVENT
DTSTART:20140214T000000
DTEND:20140228T235900
DTSTAMP:20260422T082127
CREATED:20140214T223932
LAST-MODIFIED:20140214T223932
UID:88234@https://singpromos.com
SUMMARY:Citylife by Citylong Up To 70% OFF Warehouse SALE 14 - 28 Feb 2014
DESCRIPTION:Citylife by Citylong is having a warehouse sale with discounts of up to 70% OFF. For more information, visit [ https://singpromos.com/warehouse-sales/citylife-by-citylong-up-to-70-off-warehouse-sale-14-28-feb-2014-88234/ ]. 
LOCATION:33 Ubi Avenue 3, 408868
URL:https://singpromos.com/warehouse-sales/citylife-by-citylong-up-to-70-off-warehouse-sale-14-28-feb-2014-88234/
END:VEVENT
END:VCALENDAR