BEGIN:VCALENDAR
PRODID:-//SINGPromos.com//NONSGML v1.0//EN
VERSION:2.0
CALSCALE:GREGORIAN
METHOD:PUBLISH
X-WR-CALNAME:SINGPromos.com
X-ORIGINAL-URL:https://singpromos.com
X-WR-CALDESC:Events for SINGPromos.com
BEGIN:VEVENT
DTSTART:20140215T000000
DTEND:20140216T235900
DTSTAMP:20260420T214024
CREATED:20140215T192354
LAST-MODIFIED:20140216T120453
UID:88329@https://singpromos.com
SUMMARY:Courts Biggest Clearance Offers @ All Outlets 15 - 16 Feb 2014
DESCRIPTION:$13m stock to clear at Megastore, $5m at Megastore Warehouse Level 2, $40m total at all other Courts stores. Promotion is from 15 February to 16 February 2014.. For more information, visit [ https://singpromos.com/department-stores/courts-biggest-clearance-offers-all-outlets-15-16-feb-2014-88329/ ]. 
LOCATION:
URL:https://singpromos.com/department-stores/courts-biggest-clearance-offers-all-outlets-15-16-feb-2014-88329/
END:VEVENT
END:VCALENDAR