BEGIN:VCALENDAR
PRODID:-//SINGPromos.com//NONSGML v1.0//EN
VERSION:2.0
CALSCALE:GREGORIAN
METHOD:PUBLISH
X-WR-CALNAME:SINGPromos.com
X-ORIGINAL-URL:https://singpromos.com
X-WR-CALDESC:Events for SINGPromos.com
BEGIN:VEVENT
DTSTART:20140216T000000
DTEND:20140331T235900
DTSTAMP:20260422T082133
CREATED:20140216T100902
LAST-MODIFIED:20140216T085139
UID:88364@https://singpromos.com
SUMMARY:RWS 17% OFF USS, SEA Aquarium & Waterpark One Day Pass 3in1 Promo 16 Feb - 31 Mar 2014
DESCRIPTION:Purchase One Day Pass to: Adventure Cove Waterpark, S.E.A. Aquarium and Universal Studios Singapore at $123 (U.P. $148) for Adult, and $83 (U.P. $108) for Child.. For more information, visit [ https://singpromos.com/places-of-interest/rws-17-off-uss-sea-aquarium-waterpark-one-day-pass-3in1-promo-16-feb-31-mar-2014-88364/ ]. 
LOCATION:
URL:https://singpromos.com/places-of-interest/rws-17-off-uss-sea-aquarium-waterpark-one-day-pass-3in1-promo-16-feb-31-mar-2014-88364/
END:VEVENT
END:VCALENDAR