BEGIN:VCALENDAR
PRODID:-//SINGPromos.com//NONSGML v1.0//EN
VERSION:2.0
CALSCALE:GREGORIAN
METHOD:PUBLISH
X-WR-CALNAME:SINGPromos.com
X-ORIGINAL-URL:https://singpromos.com
X-WR-CALDESC:Events for SINGPromos.com
BEGIN:VEVENT
DTSTART:20140221T000000
DTEND:20140227T235900
DTSTAMP:20260422T082134
CREATED:20140216T165201
LAST-MODIFIED:20140216T165201
UID:88397@https://singpromos.com
SUMMARY:Isetan Bath, Bedlinen & Bedding SALE @ Isetan Scotts 21 - 27 Feb 2014
DESCRIPTION:Enjoy discounts of up to 70% OFF. For more information, visit [ https://singpromos.com/beds/isetan-bath-bedlinen-bedding-sale-isetan-scotts-21-27-feb-2014-88397/ ]. 
LOCATION:
URL:https://singpromos.com/beds/isetan-bath-bedlinen-bedding-sale-isetan-scotts-21-27-feb-2014-88397/
END:VEVENT
END:VCALENDAR