BEGIN:VCALENDAR
PRODID:-//SINGPromos.com//NONSGML v1.0//EN
VERSION:2.0
CALSCALE:GREGORIAN
METHOD:PUBLISH
X-WR-CALNAME:SINGPromos.com
X-ORIGINAL-URL:https://singpromos.com
X-WR-CALDESC:Events for SINGPromos.com
BEGIN:VEVENT
DTSTART:20140220T000000
DTEND:20140302T235900
DTSTAMP:20260422T082110
CREATED:20140216T173354
LAST-MODIFIED:20140216T173354
UID:88404@https://singpromos.com
SUMMARY:Isetan 50% OFF Elyse Ladies' Shoes @ Isetan Orchard 20 Feb - 2 Mar 2014
DESCRIPTION:Enjoy 50% OFF Elyse Ladies Shoes at Isetan Orchard from 20 February to 2 March 2014. For more information, visit [ https://singpromos.com/footwear/isetan-50-off-elyse-ladies-shoes-isetan-orchard-20-feb-2-mar-2014-88404/ ]. 
LOCATION:
URL:https://singpromos.com/footwear/isetan-50-off-elyse-ladies-shoes-isetan-orchard-20-feb-2-mar-2014-88404/
END:VEVENT
END:VCALENDAR