BEGIN:VCALENDAR
PRODID:-//SINGPromos.com//NONSGML v1.0//EN
VERSION:2.0
CALSCALE:GREGORIAN
METHOD:PUBLISH
X-WR-CALNAME:SINGPromos.com
X-ORIGINAL-URL:https://singpromos.com
X-WR-CALDESC:Events for SINGPromos.com
BEGIN:VEVENT
DTSTART:20140219T000000
DTEND:20140303T235900
DTSTAMP:20260420T040700
CREATED:20140219T211349
LAST-MODIFIED:20140219T211349
UID:88705@https://singpromos.com
SUMMARY:Malaysia Airlines NATAS Promotion Air Fares 19 Feb - 3 Mar 2014
DESCRIPTION:Fly with the World's 5-Star Airline and discover great value in your travels.. For more information, visit [ https://singpromos.com/airlines-flights/malaysia-airlines-natas-promotion-air-fares-19-feb-3-mar-2014-88705/ ]. 
LOCATION:
URL:https://singpromos.com/airlines-flights/malaysia-airlines-natas-promotion-air-fares-19-feb-3-mar-2014-88705/
END:VEVENT
END:VCALENDAR