BEGIN:VCALENDAR
PRODID:-//SINGPromos.com//NONSGML v1.0//EN
VERSION:2.0
CALSCALE:GREGORIAN
METHOD:PUBLISH
X-WR-CALNAME:SINGPromos.com
X-ORIGINAL-URL:https://singpromos.com
X-WR-CALDESC:Events for SINGPromos.com
BEGIN:VEVENT
DTSTART:20140220T000000
DTEND:20140224T235900
DTSTAMP:20260422T082108
CREATED:20140220T135642
LAST-MODIFIED:20140220T135642
UID:88732@https://singpromos.com
SUMMARY:Artbox 20% OFF Storewide Pre-Renovation SALE @ Tampines Mall 20 - 24 Feb 2014
DESCRIPTION:Artbox will be having a renovation soon and hence is throwing a 20% OFF pre-renovation sale at Tampines Mall. For more information, visit [ https://singpromos.com/gifts-presents-hampers/artbox-20-off-storewide-pre-renovation-sale-tampines-mall-20-24-feb-2014-88732/ ]. 
LOCATION:
URL:https://singpromos.com/gifts-presents-hampers/artbox-20-off-storewide-pre-renovation-sale-tampines-mall-20-24-feb-2014-88732/
END:VEVENT
END:VCALENDAR