BEGIN:VCALENDAR
PRODID:-//SINGPromos.com//NONSGML v1.0//EN
VERSION:2.0
CALSCALE:GREGORIAN
METHOD:PUBLISH
X-WR-CALNAME:SINGPromos.com
X-ORIGINAL-URL:https://singpromos.com
X-WR-CALDESC:Events for SINGPromos.com
BEGIN:VEVENT
DTSTART:20140221T000000
DTEND:20140306T235900
DTSTAMP:20260422T082146
CREATED:20140221T194436
LAST-MODIFIED:20140221T194821
UID:88862@https://singpromos.com
SUMMARY:Giant Hypermarket TVs, Bicycles & Air Conditioner Offers 21 Feb - 6 Mar 2014
DESCRIPTION:Check out the some offers on portable air conditioners, Yalo and Alecoa bicycles, Skyworth TV and more at Giant Hypermarket. For more information, visit [ https://singpromos.com/department-stores/giant-hypermarket-tvs-bicycles-air-conditioner-offers-21-feb-6-mar-2014-88862/ ]. 
LOCATION:
URL:https://singpromos.com/department-stores/giant-hypermarket-tvs-bicycles-air-conditioner-offers-21-feb-6-mar-2014-88862/
END:VEVENT
END:VCALENDAR