BEGIN:VCALENDAR
PRODID:-//SINGPromos.com//NONSGML v1.0//EN
VERSION:2.0
CALSCALE:GREGORIAN
METHOD:PUBLISH
X-WR-CALNAME:SINGPromos.com
X-ORIGINAL-URL:https://singpromos.com
X-WR-CALDESC:Events for SINGPromos.com
BEGIN:VEVENT
DTSTART:20140222T000000
DTEND:20140223T235900
DTSTAMP:20260420T232508
CREATED:20140222T173034
LAST-MODIFIED:20140223T104044
UID:88922@https://singpromos.com
SUMMARY:Courts Biggest Clearance Offers @ All Outlets 22 - 23 Feb 2014
DESCRIPTION:Courts continues their Biggest Clearance offers with $49m worth of stocks to clear. Promotion is from 22 February to 23 February 2014.. For more information, visit [ https://singpromos.com/department-stores/courts-biggest-clearance-offers-all-outlets-22-23-feb-2014-88922/ ]. 
LOCATION:
URL:https://singpromos.com/department-stores/courts-biggest-clearance-offers-all-outlets-22-23-feb-2014-88922/
END:VEVENT
END:VCALENDAR