BEGIN:VCALENDAR
PRODID:-//SINGPromos.com//NONSGML v1.0//EN
VERSION:2.0
CALSCALE:GREGORIAN
METHOD:PUBLISH
X-WR-CALNAME:SINGPromos.com
X-ORIGINAL-URL:https://singpromos.com
X-WR-CALDESC:Events for SINGPromos.com
BEGIN:VEVENT
DTSTART:20140226T000000
DTEND:20140331T235900
DTSTAMP:20260422T082305
CREATED:20140226T123600
LAST-MODIFIED:20140225T233838
UID:89051@https://singpromos.com
SUMMARY:Hotels.Com 10% OFF Discount Coupon Code For Standard Chartered Cardmembers 26 Feb - 31 Mar 2014
DESCRIPTION:Enjoy 10% off at Hotels.com on top of the best rates with the below coupon code. This offer is only valid for the first 950 bookings using the coupon code. For more information, visit [ https://singpromos.com/vacations/hotels-com-10-off-discount-coupon-code-for-standard-chartered-cardmembers-26-feb-31-mar-2014-89051/ ]. 
LOCATION:
URL:https://singpromos.com/vacations/hotels-com-10-off-discount-coupon-code-for-standard-chartered-cardmembers-26-feb-31-mar-2014-89051/
END:VEVENT
END:VCALENDAR