BEGIN:VCALENDAR
PRODID:-//SINGPromos.com//NONSGML v1.0//EN
VERSION:2.0
CALSCALE:GREGORIAN
METHOD:PUBLISH
X-WR-CALNAME:SINGPromos.com
X-ORIGINAL-URL:https://singpromos.com
X-WR-CALDESC:Events for SINGPromos.com
BEGIN:VEVENT
DTSTART:20140226T000000
DTEND:20140302T235900
DTSTAMP:20260422T082237
CREATED:20140226T140351
LAST-MODIFIED:20140226T140642
UID:89065@https://singpromos.com
SUMMARY:MDS Collections 10% OFF Storewide 26 Feb - 2 Mar 2014
DESCRIPTION:MDS Collections is throwing 10% OFF regular priced items for a limited time. For more information, visit [ https://singpromos.com/fashion-accessories/mds-collections-10-off-storewide-26-feb-2-mar-2014-89065/ ]. 
LOCATION:
URL:https://singpromos.com/fashion-accessories/mds-collections-10-off-storewide-26-feb-2-mar-2014-89065/
END:VEVENT
END:VCALENDAR