BEGIN:VCALENDAR
PRODID:-//SINGPromos.com//NONSGML v1.0//EN
VERSION:2.0
CALSCALE:GREGORIAN
METHOD:PUBLISH
X-WR-CALNAME:SINGPromos.com
X-ORIGINAL-URL:https://singpromos.com
X-WR-CALDESC:Events for SINGPromos.com
BEGIN:VEVENT
DTSTART:20140226T000000
DTEND:20140311T235900
DTSTAMP:20260422T082237
CREATED:20140226T143534
LAST-MODIFIED:20140226T141601
UID:89068@https://singpromos.com
SUMMARY:Amazon.com 20% OFF Premium Branded Denim Coupon Code 26 Feb - 11 Mar 2014
DESCRIPTION:Get 20% OFF with $100 spend on selected Premium 7 for All Mankind, Lucky Brand, True Religion and more Denim at Amazon with this coupon code valid till 11 March 2014, 4pm. For more information, visit [ https://singpromos.com/fashion-accessories/amazon-com-20-off-premium-branded-denim-coupon-code-26-feb-11-mar-2014-89068/ ]. 
LOCATION:
URL:https://singpromos.com/fashion-accessories/amazon-com-20-off-premium-branded-denim-coupon-code-26-feb-11-mar-2014-89068/
END:VEVENT
END:VCALENDAR