BEGIN:VCALENDAR
PRODID:-//SINGPromos.com//NONSGML v1.0//EN
VERSION:2.0
CALSCALE:GREGORIAN
METHOD:PUBLISH
X-WR-CALNAME:SINGPromos.com
X-ORIGINAL-URL:https://singpromos.com
X-WR-CALDESC:Events for SINGPromos.com
BEGIN:VEVENT
DTSTART:20140226T000000
DTEND:20140316T235900
DTSTAMP:20260422T082311
CREATED:20140226T171201
LAST-MODIFIED:20140311T225412
UID:89078@https://singpromos.com
SUMMARY:Coach 10% OFF $600 Purchase Promo 26 Feb - 16 Mar 2014
DESCRIPTION:Enjoy 10% OFF your nett purchase of $600 on any Women's product.. For more information, visit [ https://singpromos.com/fashion-accessories/coach-10-off-600-purchase-promo-takashimaya-26-feb-10-mar-2014-89078/ ]. 
LOCATION:
URL:https://singpromos.com/fashion-accessories/coach-10-off-600-purchase-promo-takashimaya-26-feb-10-mar-2014-89078/
END:VEVENT
END:VCALENDAR