BEGIN:VCALENDAR
PRODID:-//SINGPromos.com//NONSGML v1.0//EN
VERSION:2.0
CALSCALE:GREGORIAN
METHOD:PUBLISH
X-WR-CALNAME:SINGPromos.com
X-ORIGINAL-URL:https://singpromos.com
X-WR-CALDESC:Events for SINGPromos.com
BEGIN:VEVENT
DTSTART:20140301T000000
DTEND:20140504T235900
DTSTAMP:20260420T220300
CREATED:20140301T144105
LAST-MODIFIED:20140303T221405
UID:89353@https://singpromos.com
SUMMARY:Singapore Cable Car 40th Anniversary Celebration Promotions 1 Mar - 4 May 2014
DESCRIPTION:Singapore Cable Car has turned 40 and are celebrating with various discounts. For more information, visit [ https://singpromos.com/places-of-interest/singapore-cable-car-40th-anniversary-celebration-promotions-1-mar-2014-89353/ ]. 
LOCATION:
URL:https://singpromos.com/places-of-interest/singapore-cable-car-40th-anniversary-celebration-promotions-1-mar-2014-89353/
END:VEVENT
END:VCALENDAR