BEGIN:VCALENDAR
PRODID:-//SINGPromos.com//NONSGML v1.0//EN
VERSION:2.0
CALSCALE:GREGORIAN
METHOD:PUBLISH
X-WR-CALNAME:SINGPromos.com
X-ORIGINAL-URL:https://singpromos.com
X-WR-CALDESC:Events for SINGPromos.com
BEGIN:VEVENT
DTSTART:20140301T000000
DTEND:20140302T235900
DTSTAMP:20260420T231244
CREATED:20140301T211430
LAST-MODIFIED:20140302T161906
UID:89376@https://singpromos.com
SUMMARY:Courts Biggest Clearance Offers @ All Outlets 1 - 2 Mar 2014
DESCRIPTION:Courts continues their Biggest Clearance offers with $39m worth of stocks to clear. Promotion is from 1 March to 2 March 2014.. For more information, visit [ https://singpromos.com/department-stores/courts-biggest-clearance-offers-all-outlets-1-2-mar-2014-89376/ ]. 
LOCATION:
URL:https://singpromos.com/department-stores/courts-biggest-clearance-offers-all-outlets-1-2-mar-2014-89376/
END:VEVENT
END:VCALENDAR