BEGIN:VCALENDAR
PRODID:-//SINGPromos.com//NONSGML v1.0//EN
VERSION:2.0
CALSCALE:GREGORIAN
METHOD:PUBLISH
X-WR-CALNAME:SINGPromos.com
X-ORIGINAL-URL:https://singpromos.com
X-WR-CALDESC:Events for SINGPromos.com
BEGIN:VEVENT
DTSTART:20140228T000000
DTEND:20140302T235900
DTSTAMP:20260422T082117
CREATED:20140301T214410
LAST-MODIFIED:20140301T214410
UID:89403@https://singpromos.com
SUMMARY:Audio House Electronics, TV, Notebooks & Appliances Offers 28 Feb - 2 Mar 2014
DESCRIPTION:Check out the latest offers from Audio House. From 28 Feb - 2 Mar 2014. For more information, visit [ https://singpromos.com/department-stores/audio-house-electronics-tv-notebooks-appliances-offers-28-feb-2-mar-2014-89403/ ]. 
LOCATION:
URL:https://singpromos.com/department-stores/audio-house-electronics-tv-notebooks-appliances-offers-28-feb-2-mar-2014-89403/
END:VEVENT
END:VCALENDAR