BEGIN:VCALENDAR
PRODID:-//SINGPromos.com//NONSGML v1.0//EN
VERSION:2.0
CALSCALE:GREGORIAN
METHOD:PUBLISH
X-WR-CALNAME:SINGPromos.com
X-ORIGINAL-URL:https://singpromos.com
X-WR-CALDESC:Events for SINGPromos.com
BEGIN:VEVENT
DTSTART:20140307T000000
DTEND:20140313T235900
DTSTAMP:20260422T082130
CREATED:20140308T235932
LAST-MODIFIED:20140308T235932
UID:90126@https://singpromos.com
SUMMARY:Isetan Up To 70% OFF Fitflop, Hunter & Elyse Ladies Shoes @ Scotts 7 - 13 Mar 2014
DESCRIPTION:Enjoy up to 40% OFF and up to 70% OFF Fitflop, Hunter and Elyse ladies shoes at Isetan Scotts. For more information, visit [ https://singpromos.com/footwear/isetan-up-to-70-off-fitflop-hunter-elyse-ladies-shoes-scotts-7-13-mar-2014-90126/ ]. 
LOCATION:
URL:https://singpromos.com/footwear/isetan-up-to-70-off-fitflop-hunter-elyse-ladies-shoes-scotts-7-13-mar-2014-90126/
END:VEVENT
END:VCALENDAR