BEGIN:VCALENDAR
PRODID:-//SINGPromos.com//NONSGML v1.0//EN
VERSION:2.0
CALSCALE:GREGORIAN
METHOD:PUBLISH
X-WR-CALNAME:SINGPromos.com
X-ORIGINAL-URL:https://singpromos.com
X-WR-CALDESC:Events for SINGPromos.com
BEGIN:VEVENT
DTSTART:20140314T000000
DTEND:20140323T235900
DTSTAMP:20260420T052614
CREATED:20140310T115418
LAST-MODIFIED:20140321T191020
UID:90219@https://singpromos.com
SUMMARY:Cristofori Warehouse SALE @ Bedok 14 - 23 Mar 2014
DESCRIPTION:Cristofori will be having their Biggest Clearance Warehouse Sale from 14th to 23rd March 2014. For more information, visit [ https://singpromos.com/warehouse-sales/cristofori-warehouse-sale-bedok-14-23-mar-2014-90219/ ]. 
LOCATION:Blk 3014 Bedok Industrial Park E, 489980
URL:https://singpromos.com/warehouse-sales/cristofori-warehouse-sale-bedok-14-23-mar-2014-90219/
END:VEVENT
END:VCALENDAR