BEGIN:VCALENDAR
PRODID:-//SINGPromos.com//NONSGML v1.0//EN
VERSION:2.0
CALSCALE:GREGORIAN
METHOD:PUBLISH
X-WR-CALNAME:SINGPromos.com
X-ORIGINAL-URL:https://singpromos.com
X-WR-CALDESC:Events for SINGPromos.com
BEGIN:VEVENT
DTSTART:20140408T000000
DTEND:20140408T235900
DTSTAMP:20260419T224842
CREATED:20140312T143829
LAST-MODIFIED:20140408T195411
UID:90303@https://singpromos.com
SUMMARY:Ben & Jerry's FREE Cone Day (FREE Ice Cream Giveaway) @ Four Locations 8 Apr 2014
DESCRIPTION:Celebrate the Ben & Jerriest Day of the Year with FREE Ice Cream on 8 April! Free Cone Day on Wheels will leave no hand unconed. For more information, visit [ https://singpromos.com/dining-restaurants-food/ben-jerrys-free-cone-day-free-ice-cream-giveaway-four-locations-8-apr-2014-90303/ ]. 
LOCATION:
URL:https://singpromos.com/dining-restaurants-food/ben-jerrys-free-cone-day-free-ice-cream-giveaway-four-locations-8-apr-2014-90303/
END:VEVENT
END:VCALENDAR