BEGIN:VCALENDAR
PRODID:-//SINGPromos.com//NONSGML v1.0//EN
VERSION:2.0
CALSCALE:GREGORIAN
METHOD:PUBLISH
X-WR-CALNAME:SINGPromos.com
X-ORIGINAL-URL:https://singpromos.com
X-WR-CALDESC:Events for SINGPromos.com
BEGIN:VEVENT
DTSTART:20140314T000000
DTEND:20140317T235900
DTSTAMP:20260420T214810
CREATED:20140314T222800
LAST-MODIFIED:20140314T222800
UID:90568@https://singpromos.com
SUMMARY:Best Denki Audio Visual, Appliances & Other Electronics Offers 14 - 17 Mar 2014
DESCRIPTION:Check out Best Denki's latest TV, Appliances and other electronics offers valid from 14 March to 17 March 2014. For more information, visit [ https://singpromos.com/department-stores/best-denki-audio-visual-appliances-other-electronics-offers-14-17-mar-2014-90568/ ]. 
LOCATION:
URL:https://singpromos.com/department-stores/best-denki-audio-visual-appliances-other-electronics-offers-14-17-mar-2014-90568/
END:VEVENT
END:VCALENDAR