BEGIN:VCALENDAR
PRODID:-//SINGPromos.com//NONSGML v1.0//EN
VERSION:2.0
CALSCALE:GREGORIAN
METHOD:PUBLISH
X-WR-CALNAME:SINGPromos.com
X-ORIGINAL-URL:https://singpromos.com
X-WR-CALDESC:Events for SINGPromos.com
BEGIN:VEVENT
DTSTART:20140315T000000
DTEND:20140317T235900
DTSTAMP:20260420T214810
CREATED:20140316T092437
LAST-MODIFIED:20140316T092437
UID:90656@https://singpromos.com
SUMMARY:Courts Stock Take Offers 15 - 17 Mar 2014
DESCRIPTION:Courts continues their Annual Stock Take promotion with up to 80% OFF. For more information, visit [ https://singpromos.com/department-stores/courts-stock-take-offers-15-17-mar-2014-90656/ ]. 
LOCATION:
URL:https://singpromos.com/department-stores/courts-stock-take-offers-15-17-mar-2014-90656/
END:VEVENT
END:VCALENDAR