BEGIN:VCALENDAR
PRODID:-//SINGPromos.com//NONSGML v1.0//EN
VERSION:2.0
CALSCALE:GREGORIAN
METHOD:PUBLISH
X-WR-CALNAME:SINGPromos.com
X-ORIGINAL-URL:https://singpromos.com
X-WR-CALDESC:Events for SINGPromos.com
BEGIN:VEVENT
DTSTART:20140322T000000
DTEND:20140323T235900
DTSTAMP:20260424T012026
CREATED:20140322T211223
LAST-MODIFIED:20140323T105924
UID:91334@https://singpromos.com
SUMMARY:Courts 40th Birthday Celebration Offers 22 - 23 Mar 2014
DESCRIPTION:Courts is celebrating it's 40th Birthday Celebration with on-Stop deals and events from Saturday 10am to Monday 2am. For more information, visit [ https://singpromos.com/department-stores/courts-40th-birthday-celebration-offers-22-23-mar-2014-91334/ ]. 
LOCATION:
URL:https://singpromos.com/department-stores/courts-40th-birthday-celebration-offers-22-23-mar-2014-91334/
END:VEVENT
END:VCALENDAR