BEGIN:VCALENDAR
PRODID:-//SINGPromos.com//NONSGML v1.0//EN
VERSION:2.0
CALSCALE:GREGORIAN
METHOD:PUBLISH
X-WR-CALNAME:SINGPromos.com
X-ORIGINAL-URL:https://singpromos.com
X-WR-CALDESC:Events for SINGPromos.com
BEGIN:VEVENT
DTSTART:20140324T000000
DTEND:20140408T235900
DTSTAMP:20260422T082233
CREATED:20140324T093117
LAST-MODIFIED:20140324T093117
UID:91400@https://singpromos.com
SUMMARY:French Connection FCUK 30% OFF Storewide @ Tangs 24 Mar - 8 Apr 2014
DESCRIPTION:French Connection is throwing a 30% OFF storewide on regular priced items at Tangs for a limited time. For more information, visit [ https://singpromos.com/fashion-accessories/french-connection-fcuk-30-off-storewide-tangs-24-mar-8-apr-2014-91400/ ]. 
LOCATION:
URL:https://singpromos.com/fashion-accessories/french-connection-fcuk-30-off-storewide-tangs-24-mar-8-apr-2014-91400/
END:VEVENT
END:VCALENDAR