BEGIN:VCALENDAR
PRODID:-//SINGPromos.com//NONSGML v1.0//EN
VERSION:2.0
CALSCALE:GREGORIAN
METHOD:PUBLISH
X-WR-CALNAME:SINGPromos.com
X-ORIGINAL-URL:https://singpromos.com
X-WR-CALDESC:Events for SINGPromos.com
BEGIN:VEVENT
DTSTART:20140408T000000
DTEND:20140408T235900
DTSTAMP:20260424T020638
CREATED:20140408T113818
LAST-MODIFIED:20140408T113818
UID:93060@https://singpromos.com
SUMMARY:Giant Hypermarket 3% OFF For Seniors Promo 8 Apr 2014
DESCRIPTION:It's Senior Citizen's Day at Giant - seniors enjoy 3% OFF purchases. For more information, visit [ https://singpromos.com/department-stores/giant-hypermarket-3-off-for-seniors-promo-8-apr-2014-93060/ ]. 
LOCATION:
URL:https://singpromos.com/department-stores/giant-hypermarket-3-off-for-seniors-promo-8-apr-2014-93060/
END:VEVENT
END:VCALENDAR