BEGIN:VCALENDAR
PRODID:-//SINGPromos.com//NONSGML v1.0//EN
VERSION:2.0
CALSCALE:GREGORIAN
METHOD:PUBLISH
X-WR-CALNAME:SINGPromos.com
X-ORIGINAL-URL:https://singpromos.com
X-WR-CALDESC:Events for SINGPromos.com
BEGIN:VEVENT
DTSTART:20140409T000000
DTEND:20140420T235900
DTSTAMP:20260422T082110
CREATED:20140408T123322
LAST-MODIFIED:20140408T123631
UID:93067@https://singpromos.com
SUMMARY:French Connection 50% OFF Storewide @ Tangs 9 - 20 Apr 2014
DESCRIPTION:French Connection FCUK is throwing a 50% OFF storewide on regular priced items at Tangs for a limited time. For more information, visit [ https://singpromos.com/fashion-accessories/french-connection-50-off-storewide-tangs-9-20-apr-2014-93067/ ]. 
LOCATION:
URL:https://singpromos.com/fashion-accessories/french-connection-50-off-storewide-tangs-9-20-apr-2014-93067/
END:VEVENT
END:VCALENDAR