BEGIN:VCALENDAR
PRODID:-//SINGPromos.com//NONSGML v1.0//EN
VERSION:2.0
CALSCALE:GREGORIAN
METHOD:PUBLISH
X-WR-CALNAME:SINGPromos.com
X-ORIGINAL-URL:https://singpromos.com
X-WR-CALDESC:Events for SINGPromos.com
BEGIN:VEVENT
DTSTART:20140412T000000
DTEND:20140413T235900
DTSTAMP:20260422T064326
CREATED:20140412T172657
LAST-MODIFIED:20140412T172747
UID:93554@https://singpromos.com
SUMMARY:Courts Score Big Sale Offers 12 - 13 Apr 2014
DESCRIPTION:Score Big with Biggest savings at Courts with discount of up to 80% OFF. For more information, visit [ https://singpromos.com/department-stores/courts-score-big-sale-offers-12-13-apr-2014-93554/ ]. 
LOCATION:
URL:https://singpromos.com/department-stores/courts-score-big-sale-offers-12-13-apr-2014-93554/
END:VEVENT
END:VCALENDAR