BEGIN:VCALENDAR
PRODID:-//SINGPromos.com//NONSGML v1.0//EN
VERSION:2.0
CALSCALE:GREGORIAN
METHOD:PUBLISH
X-WR-CALNAME:SINGPromos.com
X-ORIGINAL-URL:https://singpromos.com
X-WR-CALDESC:Events for SINGPromos.com
BEGIN:VEVENT
DTSTART:20140417T000000
DTEND:20140420T235900
DTSTAMP:20260422T082302
CREATED:20140417T101931
LAST-MODIFIED:20140417T102314
UID:93978@https://singpromos.com
SUMMARY:Dockers 50% OFF Storewide For Citibank & Jay Gee Cardmembers 17 - 20 Apr 2014
DESCRIPTION:50% OFF promotion for Jay Gee and Citibank cardmembers. For more information, visit [ https://singpromos.com/fashion-accessories/dockers-50-off-storewide-for-citibank-jay-gee-cardmembers-17-20-apr-2014-93978/ ]. 
LOCATION:
URL:https://singpromos.com/fashion-accessories/dockers-50-off-storewide-for-citibank-jay-gee-cardmembers-17-20-apr-2014-93978/
END:VEVENT
END:VCALENDAR