BEGIN:VCALENDAR
PRODID:-//SINGPromos.com//NONSGML v1.0//EN
VERSION:2.0
CALSCALE:GREGORIAN
METHOD:PUBLISH
X-WR-CALNAME:SINGPromos.com
X-ORIGINAL-URL:https://singpromos.com
X-WR-CALDESC:Events for SINGPromos.com
BEGIN:VEVENT
DTSTART:20140417T000000
DTEND:20140420T235900
DTSTAMP:20260422T082115
CREATED:20140417T151442
LAST-MODIFIED:20140417T151442
UID:94044@https://singpromos.com
SUMMARY:Topshop 15% Off Holiday Treats 17 - 20 Apr 2014
DESCRIPTION:Enjoy 15% off total bill with a minimum 3 items. For more information, visit [ https://singpromos.com/fashion-accessories/topshop-15-off-holiday-treats-17-20-apr-2014-94044/ ]. 
LOCATION:
URL:https://singpromos.com/fashion-accessories/topshop-15-off-holiday-treats-17-20-apr-2014-94044/
END:VEVENT
END:VCALENDAR