BEGIN:VCALENDAR
PRODID:-//SINGPromos.com//NONSGML v1.0//EN
VERSION:2.0
CALSCALE:GREGORIAN
METHOD:PUBLISH
X-WR-CALNAME:SINGPromos.com
X-ORIGINAL-URL:https://singpromos.com
X-WR-CALDESC:Events for SINGPromos.com
BEGIN:VEVENT
DTSTART:20140417T000000
DTEND:20140420T235900
DTSTAMP:20260424T012019
CREATED:20140419T064424
LAST-MODIFIED:20140419T190221
UID:94287@https://singpromos.com
SUMMARY:Courts 4 Days Holidays Sale Offers 17 - 20 Apr 2014
DESCRIPTION:Courts is having a 4 Days Holidays Sale from 17 April to 20 April 2014. Deals up to 90% OFF. For more information, visit [ https://singpromos.com/department-stores/courts-4-days-holidays-sale-offers-17-20-apr-2014-94287/ ]. 
LOCATION:
URL:https://singpromos.com/department-stores/courts-4-days-holidays-sale-offers-17-20-apr-2014-94287/
END:VEVENT
END:VCALENDAR