BEGIN:VCALENDAR
PRODID:-//SINGPromos.com//NONSGML v1.0//EN
VERSION:2.0
CALSCALE:GREGORIAN
METHOD:PUBLISH
X-WR-CALNAME:SINGPromos.com
X-ORIGINAL-URL:https://singpromos.com
X-WR-CALDESC:Events for SINGPromos.com
BEGIN:VEVENT
DTSTART:20140421T000000
DTEND:20140427T235900
DTSTAMP:20260420T031257
CREATED:20140421T103414
LAST-MODIFIED:20140421T103447
UID:94523@https://singpromos.com
SUMMARY:Air Asia From $0 Air Fares Mega SALE 21 - 27 Apr 2014
DESCRIPTION:Fly from Singapore to Jakarta and Surabaya from $0. Fly to Bali, Langkawi, Bandung and more from $5. For more information, visit [ https://singpromos.com/airlines-flights/air-asia-from-0-air-fares-mega-sale-21-27-apr-2014-94523/ ]. 
LOCATION:
URL:https://singpromos.com/airlines-flights/air-asia-from-0-air-fares-mega-sale-21-27-apr-2014-94523/
END:VEVENT
END:VCALENDAR